BEGIN:VCALENDAR
PRODID:brasil.gov.agenda
VERSION:1.0
BEGIN:VEVENT
DTSTART:20210727T140000Z
DTEND:20210727T170000Z
DCREATED:20210727T111121Z
UID:Compromisso-99e780b5b9a04ac0abf1125c200408ec
SEQUENCE:0
LAST-MODIFIED:20210727T111427Z
SUMMARY:167ª reunião sendo a 124ª sessão em caráter ordinário do CONSEPE
LOCATION:Compromisso on-line
PRIORITY:3
TRANSP:0
END:VEVENT
END:VCALENDAR
