BEGIN:VCALENDAR
PRODID:brasil.gov.agenda
VERSION:1.0
BEGIN:VEVENT
DTSTART:20210726T143000Z
DTEND:20210726T170000Z
DCREATED:20210726T164019Z
UID:Compromisso-a02d6ffbca474d1c8422aef86fcbb9b3
SEQUENCE:0
LAST-MODIFIED:20210726T164019Z
SUMMARY:Reunião com a Secretaria de Processo Administrativo (SecPad)
DESCRIPTION:Demanda interna
LOCATION:Reitoria
PRIORITY:3
TRANSP:0
END:VEVENT
END:VCALENDAR
