BEGIN:VCALENDAR
PRODID:brasil.gov.agenda
VERSION:1.0
BEGIN:VEVENT
DTSTART:20210726T080000Z
DTEND:20210726T120000Z
DCREATED:20210726T163908Z
UID:Compromisso-0d87c798ead540b0bb7b707d6b63f2b5
SEQUENCE:0
LAST-MODIFIED:20210726T163908Z
SUMMARY:Despachos Internos
LOCATION:Reitoria
PRIORITY:3
TRANSP:0
END:VEVENT
END:VCALENDAR
