BEGIN:VCALENDAR
PRODID:brasil.gov.agenda
VERSION:1.0
BEGIN:VEVENT
DTSTART:20210724T090000Z
DTEND:20210724T120000Z
DCREATED:20210723T111001Z
UID:Compromisso-20fa3fbacc5e4d0ba1f7983fecdd280c
SEQUENCE:0
LAST-MODIFIED:20210723T111001Z
SUMMARY:245ª reunião\, sendo a 100ª sessão em caráter extraordinário do CONSU
LOCATION:Compromisso on-line
PRIORITY:3
TRANSP:0
END:VEVENT
END:VCALENDAR
