BEGIN:VCALENDAR
PRODID:brasil.gov.agenda
VERSION:1.0
BEGIN:VEVENT
DTSTART:20210723T083000Z
DTEND:20210723T090000Z
DCREATED:20210723T110545Z
UID:Compromisso-1c1db8379133456991082658f0cf4302
SEQUENCE:0
LAST-MODIFIED:20210723T110545Z
SUMMARY:Oitiva em processo administrativo
LOCATION:Compromisso on-line
PRIORITY:3
TRANSP:0
END:VEVENT
END:VCALENDAR
