BEGIN:VCALENDAR
PRODID:brasil.gov.agenda
VERSION:1.0
BEGIN:VEVENT
DTSTART:20210723T090000Z
DTEND:20210723T120000Z
DCREATED:20210723T110612Z
UID:Compromisso-c1da260a6b04425ab3e29ae9cdccedba
SEQUENCE:0
LAST-MODIFIED:20210723T110612Z
SUMMARY:Despachos Internos
LOCATION:Reitoria
PRIORITY:3
TRANSP:0
END:VEVENT
END:VCALENDAR
