BEGIN:VCALENDAR
PRODID:brasil.gov.agenda
VERSION:1.0
BEGIN:VEVENT
DTSTART:20210723T140000Z
DTEND:20210723T180000Z
DCREATED:20210723T110630Z
UID:Compromisso-1f4d890c48c5456684838a7148964a76
SEQUENCE:0
LAST-MODIFIED:20210723T110630Z
SUMMARY:Despachos Internos
LOCATION:Reitoria
PRIORITY:3
TRANSP:0
END:VEVENT
END:VCALENDAR
