BEGIN:VCALENDAR
PRODID:brasil.gov.agenda
VERSION:1.0
BEGIN:VEVENT
DTSTART:20210722T140000Z
DTEND:20210722T180000Z
DCREATED:20210721T131759Z
UID:Compromisso-e6fd21a816f4454d95b3d98f701e7efb
SEQUENCE:0
LAST-MODIFIED:20210721T131759Z
SUMMARY:Despachos Internos
LOCATION:Reitoria
PRIORITY:3
TRANSP:0
END:VEVENT
END:VCALENDAR
