BEGIN:VCALENDAR
PRODID:brasil.gov.agenda
VERSION:1.0
BEGIN:VEVENT
DTSTART:20210721T080000Z
DTEND:20210721T120000Z
DCREATED:20210721T131902Z
UID:Compromisso-5b76655798ba47688891c8c2aa19c0dc
SEQUENCE:0
LAST-MODIFIED:20210721T131902Z
SUMMARY:Despachos Internos
LOCATION:Reitoria
PRIORITY:3
TRANSP:0
END:VEVENT
END:VCALENDAR
