BEGIN:VCALENDAR
PRODID:brasil.gov.agenda
VERSION:1.0
BEGIN:VEVENT
DTSTART:20210721T140000Z
DTEND:20210721T180000Z
DCREATED:20210721T131923Z
UID:Compromisso-322308464cee424586a8ed56932dd66c
SEQUENCE:0
LAST-MODIFIED:20210721T131923Z
SUMMARY:Despachos Internos
LOCATION:Reitoria
PRIORITY:3
TRANSP:0
END:VEVENT
END:VCALENDAR
