BEGIN:VCALENDAR
PRODID:brasil.gov.agenda
VERSION:1.0
BEGIN:VEVENT
DTSTART:20210720T140000Z
DTEND:20210720T180000Z
DCREATED:20210720T184554Z
UID:Compromisso-b7c4c11a657a46e9992acf114dafa1a3
SEQUENCE:0
LAST-MODIFIED:20210720T184554Z
SUMMARY:Despachos Internos
LOCATION:Reitoria
PRIORITY:3
TRANSP:0
END:VEVENT
END:VCALENDAR
