BEGIN:VCALENDAR
PRODID:brasil.gov.agenda
VERSION:1.0
BEGIN:VEVENT
DTSTART:20210719T080000Z
DTEND:20210719T120000Z
DCREATED:20210719T163419Z
UID:Compromisso-e58964ee8a944d4db182d0be7979c9ad
SEQUENCE:0
LAST-MODIFIED:20210719T163420Z
SUMMARY:Despachos Internos
LOCATION:Reitoria
PRIORITY:3
TRANSP:0
END:VEVENT
END:VCALENDAR
