BEGIN:VCALENDAR
PRODID:brasil.gov.agenda
VERSION:1.0
BEGIN:VEVENT
DTSTART:20210716T140000Z
DTEND:20210716T170000Z
DCREATED:20210716T112427Z
UID:Compromisso-71a01271bd394c22a5063526cc6efd32
SEQUENCE:0
LAST-MODIFIED:20210716T112443Z
SUMMARY:Reunião com a Secretaria de Processo Administrativo (SecPad)
DESCRIPTION:Despachos internos
LOCATION:Reitoria
PRIORITY:3
TRANSP:0
END:VEVENT
END:VCALENDAR
