BEGIN:VCALENDAR
PRODID:brasil.gov.agenda
VERSION:1.0
BEGIN:VEVENT
DTSTART:20210715T080000Z
DTEND:20210715T120000Z
DCREATED:20210715T115119Z
UID:Compromisso-8fa6fb106e764f2c871d5e3ea807d9c1
SEQUENCE:0
LAST-MODIFIED:20210715T115119Z
SUMMARY:Despachos Internos
LOCATION:Reitoria
PRIORITY:3
TRANSP:0
END:VEVENT
END:VCALENDAR
