BEGIN:VCALENDAR
PRODID:brasil.gov.agenda
VERSION:1.0
BEGIN:VEVENT
DTSTART:20210715T140000Z
DTEND:20210715T170000Z
DCREATED:20210715T115310Z
UID:Compromisso-a4d55d55a21a49dd8fa801ca22f6c872
SEQUENCE:0
LAST-MODIFIED:20210715T115310Z
SUMMARY:244ª reunião\, sendo a 99ª sessão em caráter extraordinário do CONSU
LOCATION:Compromisso on-line
PRIORITY:3
TRANSP:0
END:VEVENT
END:VCALENDAR
