BEGIN:VCALENDAR
PRODID:brasil.gov.agenda
VERSION:1.0
BEGIN:VEVENT
DTSTART:20210714T140000Z
DTEND:20210714T160000Z
DCREATED:20210715T115532Z
UID:Compromisso-5d2dfb5b602f4a2cab0fd8cc9fcebddf
SEQUENCE:0
LAST-MODIFIED:20210715T115532Z
SUMMARY:Reunião com a Secretaria de Processo Administrativo (SecPad)
DESCRIPTION:Demandas internas
LOCATION:Reitoria
PRIORITY:3
TRANSP:0
END:VEVENT
END:VCALENDAR
