BEGIN:VCALENDAR
PRODID:brasil.gov.agenda
VERSION:1.0
BEGIN:VEVENT
DTSTART:20210714T100000Z
DTEND:20210714T101500Z
DCREATED:20210715T115403Z
UID:Compromisso-3ae48368f48b4397b3a9a13d633188c2
SEQUENCE:0
LAST-MODIFIED:20210715T115403Z
SUMMARY:Colação de grau antecipada
LOCATION:Compromisso on-line
PRIORITY:3
TRANSP:0
END:VEVENT
END:VCALENDAR
