BEGIN:VCALENDAR
PRODID:brasil.gov.agenda
VERSION:1.0
BEGIN:VEVENT
DTSTART:20210713T080000Z
DTEND:20210713T120000Z
DCREATED:20210713T115447Z
UID:Compromisso-37ee8886269a45d5ac823dd3af74c3df
SEQUENCE:0
LAST-MODIFIED:20210713T115447Z
SUMMARY:Despachos Internos
LOCATION:Reitoria
PRIORITY:3
TRANSP:0
END:VEVENT
END:VCALENDAR
