BEGIN:VCALENDAR
PRODID:brasil.gov.agenda
VERSION:1.0
BEGIN:VEVENT
DTSTART:20210712T140000Z
DTEND:20210712T170000Z
DCREATED:20210712T111317Z
UID:Compromisso-aae949568a7c4a9c9cd6690ea80483e7
SEQUENCE:0
LAST-MODIFIED:20210712T111317Z
SUMMARY:Reunião com a Secretaria dos Conselhos
DESCRIPTION:Elaboração de pautas: CONSU e CONSEPE
LOCATION:Reitoria
PRIORITY:3
TRANSP:0
END:VEVENT
END:VCALENDAR
