BEGIN:VCALENDAR
PRODID:brasil.gov.agenda
VERSION:1.0
BEGIN:VEVENT
DTSTART:20210712T080000Z
DTEND:20210712T120000Z
DCREATED:20210712T111039Z
UID:Compromisso-a1939aa2d92b43e386c9fd0b53b8062e
SEQUENCE:0
LAST-MODIFIED:20210712T111039Z
SUMMARY:Despachos Internos
LOCATION:Reitoria
PRIORITY:3
TRANSP:0
END:VEVENT
END:VCALENDAR
