BEGIN:VCALENDAR
PRODID:brasil.gov.agenda
VERSION:1.0
BEGIN:VEVENT
DTSTART:20210709T150000Z
DTEND:20210709T180000Z
DCREATED:20210709T162332Z
UID:Compromisso-312e69040df84ded855b8da945ff0ae5
SEQUENCE:0
LAST-MODIFIED:20210709T162332Z
SUMMARY:Despachos Internos
LOCATION:Reitoria
PRIORITY:3
TRANSP:0
END:VEVENT
END:VCALENDAR
