BEGIN:VCALENDAR
PRODID:brasil.gov.agenda
VERSION:1.0
BEGIN:VEVENT
DTSTART:20210709T140000Z
DTEND:20210709T141500Z
DCREATED:20210709T162312Z
UID:Compromisso-3587700fc1934281822038f738f0af7f
SEQUENCE:0
LAST-MODIFIED:20210709T162312Z
SUMMARY:Colação de grau antecipada
LOCATION:Compromisso on-line
PRIORITY:3
TRANSP:0
END:VEVENT
END:VCALENDAR
