BEGIN:VCALENDAR
PRODID:brasil.gov.agenda
VERSION:1.0
BEGIN:VEVENT
DTSTART:20210707T140000Z
DTEND:20210707T150000Z
DCREATED:20210707T170519Z
UID:Compromisso-40e3d8acaede47e0b2353292636bf878
SEQUENCE:0
LAST-MODIFIED:20210707T170651Z
SUMMARY:Reunião com Pró-reitorias\, Diretorias
DESCRIPTION:Discussão G-Suite
LOCATION:Compromisso on-line
PRIORITY:3
TRANSP:0
END:VEVENT
END:VCALENDAR
