BEGIN:VCALENDAR
PRODID:brasil.gov.agenda
VERSION:1.0
BEGIN:VEVENT
DTSTART:20210707T160000Z
DTEND:20210707T170000Z
DCREATED:20210707T165018Z
UID:Compromisso-f28310986c5649b6950f08cf6de992ec
SEQUENCE:0
LAST-MODIFIED:20210707T165312Z
SUMMARY:Reunião com Pró-reitorias\, Diretorias\, Superintendência e Comissão Permanente
DESCRIPTION:Protocolo de Compromisso proposto pelo SERES/MEC
LOCATION:Compromisso on-line
PRIORITY:3
TRANSP:0
END:VEVENT
END:VCALENDAR
