BEGIN:VCALENDAR
PRODID:brasil.gov.agenda
VERSION:1.0
BEGIN:VEVENT
DTSTART:20210707T080000Z
DTEND:20210707T120000Z
DCREATED:20210707T164604Z
UID:Compromisso-195fdffab7dc41edaa81299b55e345d1
SEQUENCE:0
LAST-MODIFIED:20210707T164604Z
SUMMARY:Despachos Internos
LOCATION:Reitoria
PRIORITY:3
TRANSP:0
END:VEVENT
END:VCALENDAR
