BEGIN:VCALENDAR
PRODID:brasil.gov.agenda
VERSION:1.0
BEGIN:VEVENT
DTSTART:20210705T090000Z
DTEND:20210705T120000Z
DCREATED:20210705T114810Z
UID:Compromisso-a12efed817bf4a98ae579c0bb9ae4bf3
SEQUENCE:0
LAST-MODIFIED:20210705T114810Z
SUMMARY:Despachos Internos
LOCATION:Reitoria
PRIORITY:3
TRANSP:0
END:VEVENT
END:VCALENDAR
