BEGIN:VCALENDAR
PRODID:brasil.gov.agenda
VERSION:1.0
BEGIN:VEVENT
DTSTART:20210705T140000Z
DTEND:20210705T180000Z
DCREATED:20210705T114827Z
UID:Compromisso-890ba7369c804168ab492b2cf502441c
SEQUENCE:0
LAST-MODIFIED:20210705T114827Z
SUMMARY:Despachos Internos
LOCATION:Reitoria
PRIORITY:3
TRANSP:0
END:VEVENT
END:VCALENDAR
