BEGIN:VCALENDAR
PRODID:brasil.gov.agenda
VERSION:1.0
BEGIN:VEVENT
DTSTART:20210705T083000Z
DTEND:20210705T090000Z
DCREATED:20210705T114745Z
UID:Compromisso-3d5b9fc9217b4468a3c1f37ec4a81f22
SEQUENCE:0
LAST-MODIFIED:20210705T114745Z
SUMMARY:Colação de grau antecipada
LOCATION:Compromisso on-line
PRIORITY:3
TRANSP:0
END:VEVENT
END:VCALENDAR
