BEGIN:VCALENDAR
PRODID:brasil.gov.agenda
VERSION:1.0
BEGIN:VEVENT
DTSTART:20210702T140000Z
DTEND:20210702T180000Z
DCREATED:20210702T113033Z
UID:Compromisso-8a8cc34e2e5b48d6a12b1dc4b29df592
SEQUENCE:0
LAST-MODIFIED:20210702T113033Z
SUMMARY:Despachos Internos
LOCATION:Reitoria
PRIORITY:3
TRANSP:0
END:VEVENT
END:VCALENDAR
