BEGIN:VCALENDAR
PRODID:brasil.gov.agenda
VERSION:1.0
BEGIN:VEVENT
DTSTART:20210702T083000Z
DTEND:20210702T093000Z
DCREATED:20210702T113446Z
UID:Compromisso-d49bbf44e18d41e5b2593af2e507f05a
SEQUENCE:0
LAST-MODIFIED:20210702T113446Z
SUMMARY:Despachos com a Pró-reitoria de Gestão de Pessoas (PROGEP)
LOCATION:Reitoria
PRIORITY:3
TRANSP:0
END:VEVENT
END:VCALENDAR
