BEGIN:VCALENDAR
PRODID:brasil.gov.agenda
VERSION:1.0
BEGIN:VEVENT
DTSTART:20210701T080000Z
DTEND:20210701T120000Z
DCREATED:20210701T114124Z
UID:Compromisso-824412f2446f4fcba5112fa62fc3fe48
SEQUENCE:0
LAST-MODIFIED:20210701T114124Z
SUMMARY:Despachos Internos
LOCATION:Reitoria
PRIORITY:3
TRANSP:0
END:VEVENT
END:VCALENDAR
