BEGIN:VCALENDAR
PRODID:brasil.gov.agenda
VERSION:1.0
BEGIN:VEVENT
DTSTART:20210630T140000Z
DTEND:20210630T180000Z
DCREATED:20210630T112651Z
UID:Compromisso-0831f7d2b2e44088b9be98c9b91d0435
SEQUENCE:0
LAST-MODIFIED:20210630T112651Z
SUMMARY:Despachos Internos
LOCATION:Reitoria
PRIORITY:3
TRANSP:0
END:VEVENT
END:VCALENDAR
