BEGIN:VCALENDAR
PRODID:brasil.gov.agenda
VERSION:1.0
BEGIN:VEVENT
DTSTART:20210630T083000Z
DTEND:20210630T120000Z
DCREATED:20210630T112501Z
UID:Compromisso-12157b0ae28142aaa14de1830859f4d3
SEQUENCE:0
LAST-MODIFIED:20210630T112526Z
SUMMARY:166ª reunião em caráter extraordinário do CONSEPE
LOCATION:Compromisso on-line
PRIORITY:3
TRANSP:0
END:VEVENT
END:VCALENDAR
