BEGIN:VCALENDAR
PRODID:brasil.gov.agenda
VERSION:1.0
BEGIN:VEVENT
DTSTART:20210628T153000Z
DTEND:20210628T163000Z
DCREATED:20210628T113805Z
UID:Compromisso-285c07470ac0441cad0c33db87f56136
SEQUENCE:0
LAST-MODIFIED:20210628T113805Z
SUMMARY:Reunião com a  Faculdade Interdisciplinar em Humanidades
DESCRIPTION:Regimento Interno
LOCATION:Reitoria
PRIORITY:3
TRANSP:0
END:VEVENT
END:VCALENDAR
