BEGIN:VCALENDAR
PRODID:brasil.gov.agenda
VERSION:1.0
BEGIN:VEVENT
DTSTART:20210628T080000Z
DTEND:20210628T120000Z
DCREATED:20210628T113543Z
UID:Compromisso-c1268dbd1863412787a0b451777af37f
SEQUENCE:0
LAST-MODIFIED:20210628T113543Z
SUMMARY:Despachos Internos
LOCATION:Reitoria
PRIORITY:3
TRANSP:0
END:VEVENT
END:VCALENDAR
