BEGIN:VCALENDAR
PRODID:brasil.gov.agenda
VERSION:1.0
BEGIN:VEVENT
DTSTART:20210628T140000Z
DTEND:20210628T150000Z
DCREATED:20210628T113658Z
UID:Compromisso-68b86b1fd9144ee6aaca8e0749b047cd
SEQUENCE:0
LAST-MODIFIED:20210628T113658Z
SUMMARY:Despachos Internos
LOCATION:Reitoria
PRIORITY:3
TRANSP:0
END:VEVENT
END:VCALENDAR
