BEGIN:VCALENDAR
PRODID:brasil.gov.agenda
VERSION:1.0
BEGIN:VEVENT
DTSTART:20210625T080000Z
DTEND:20210625T120000Z
DCREATED:20210625T111601Z
UID:Compromisso-30973dd056c64876a17cc89488474dae
SEQUENCE:0
LAST-MODIFIED:20210625T111601Z
SUMMARY:Despachos Internos
LOCATION:Reitoria
PRIORITY:3
TRANSP:0
END:VEVENT
END:VCALENDAR
