BEGIN:VCALENDAR
PRODID:brasil.gov.agenda
VERSION:1.0
BEGIN:VEVENT
DTSTART:20210625T140000Z
DTEND:20210625T150000Z
DCREATED:20210625T111945Z
UID:Compromisso-8a9fff6e57ab48d8bccd63bb1fd8276b
SEQUENCE:0
LAST-MODIFIED:20210625T111945Z
SUMMARY:Despachos Internos
LOCATION:Reitoria
PRIORITY:3
TRANSP:0
END:VEVENT
END:VCALENDAR
