BEGIN:VCALENDAR
PRODID:brasil.gov.agenda
VERSION:1.0
BEGIN:VEVENT
DTSTART:20210625T160000Z
DTEND:20210625T163000Z
DCREATED:20210625T111542Z
UID:Compromisso-8bae546e24704413a0d9c1a7c03495ce
SEQUENCE:0
LAST-MODIFIED:20210625T111542Z
SUMMARY:Colação de grau antecipada
LOCATION:Compromisso on-line
PRIORITY:3
TRANSP:0
END:VEVENT
END:VCALENDAR
