BEGIN:VCALENDAR
PRODID:brasil.gov.agenda
VERSION:1.0
BEGIN:VEVENT
DTSTART:20210624T103000Z
DTEND:20210624T110000Z
DCREATED:20210624T141722Z
UID:Compromisso-669b1106f0cd493799cd5eb447d49d0a
SEQUENCE:0
LAST-MODIFIED:20210624T141722Z
SUMMARY:Reunião com a Assessoria do Meio Ambiente
DESCRIPTION:Prevenção de Incêndio no Campus
LOCATION:Compromisso on-line
PRIORITY:3
TRANSP:0
END:VEVENT
END:VCALENDAR
