BEGIN:VCALENDAR
PRODID:brasil.gov.agenda
VERSION:1.0
BEGIN:VEVENT
DTSTART:20210624T080000Z
DTEND:20210624T100000Z
DCREATED:20210624T141743Z
UID:Compromisso-0ee31a22ee4c46039a9ed2fd6449b71a
SEQUENCE:0
LAST-MODIFIED:20210624T141743Z
SUMMARY:Despachos Internos
LOCATION:Reitoria
PRIORITY:3
TRANSP:0
END:VEVENT
END:VCALENDAR
