BEGIN:VCALENDAR
PRODID:brasil.gov.agenda
VERSION:1.0
BEGIN:VEVENT
DTSTART:20210623T110000Z
DTEND:20210623T120000Z
DCREATED:20210623T174139Z
UID:Compromisso-0cf7ee78117148e29baa625e5d483062
SEQUENCE:0
LAST-MODIFIED:20210623T174139Z
SUMMARY:Reunião com a Secretária dos Órgãos Colegiados
DESCRIPTION:Alinhamento interno
LOCATION:Reitoria
PRIORITY:3
TRANSP:0
END:VEVENT
END:VCALENDAR
