BEGIN:VCALENDAR
PRODID:brasil.gov.agenda
VERSION:1.0
BEGIN:VEVENT
DTSTART:20210623T080000Z
DTEND:20210623T100000Z
DCREATED:20210623T173736Z
UID:Compromisso-684711aa80ef4b7cbaab376f3aa1d1a5
SEQUENCE:0
LAST-MODIFIED:20210623T174212Z
SUMMARY:Despachos Internos
LOCATION:Reitoria
PRIORITY:3
TRANSP:0
END:VEVENT
END:VCALENDAR
