BEGIN:VCALENDAR
PRODID:brasil.gov.agenda
VERSION:1.0
BEGIN:VEVENT
DTSTART:20210623T140000Z
DTEND:20210623T180000Z
DCREATED:20210623T174234Z
UID:Compromisso-970747bf386c4fa5a04e0923c9c3af96
SEQUENCE:0
LAST-MODIFIED:20210623T174234Z
SUMMARY:Despachos Internos
LOCATION:Reitoria
PRIORITY:3
TRANSP:0
END:VEVENT
END:VCALENDAR
