BEGIN:VCALENDAR
PRODID:brasil.gov.agenda
VERSION:1.0
BEGIN:VEVENT
DTSTART:20210622T143000Z
DTEND:20210622T150000Z
DCREATED:20210622T105949Z
UID:Compromisso-680b15b8893c4e7abf0e279b1bc00717
SEQUENCE:0
LAST-MODIFIED:20210622T105949Z
SUMMARY:Sessão de posse
LOCATION:Reitoria
PRIORITY:3
TRANSP:0
END:VEVENT
END:VCALENDAR
