BEGIN:VCALENDAR
PRODID:brasil.gov.agenda
VERSION:1.0
BEGIN:VEVENT
DTSTART:20210622T080000Z
DTEND:20210622T120000Z
DCREATED:20210622T110022Z
UID:Compromisso-3ea35637171945678a4e38e14537e036
SEQUENCE:0
LAST-MODIFIED:20210622T110022Z
SUMMARY:Despachos Internos
LOCATION:Reitoria
PRIORITY:3
TRANSP:0
END:VEVENT
END:VCALENDAR
