BEGIN:VCALENDAR
PRODID:brasil.gov.agenda
VERSION:1.0
BEGIN:VEVENT
DTSTART:20210622T150000Z
DTEND:20210622T180000Z
DCREATED:20210622T110055Z
UID:Compromisso-4460b5a086814c6d8dce72bd016f1f23
SEQUENCE:0
LAST-MODIFIED:20210622T110055Z
SUMMARY:Despachos Internos
LOCATION:Reitoria
PRIORITY:3
TRANSP:0
END:VEVENT
END:VCALENDAR
