BEGIN:VCALENDAR
PRODID:brasil.gov.agenda
VERSION:1.0
BEGIN:VEVENT
DTSTART:20210621T080000Z
DTEND:20210621T120000Z
DCREATED:20210621T111530Z
UID:Compromisso-275385be333f421bad80ee5c11438067
SEQUENCE:0
LAST-MODIFIED:20210621T111530Z
SUMMARY:Despachos Internos
LOCATION:Reitoria
PRIORITY:3
TRANSP:0
END:VEVENT
END:VCALENDAR
