BEGIN:VCALENDAR
PRODID:brasil.gov.agenda
VERSION:1.0
BEGIN:VEVENT
DTSTART:20210618T080000Z
DTEND:20210618T120000Z
DCREATED:20210618T124641Z
UID:Compromisso-92a483aad2564c8996cdb1ae37a096a2
SEQUENCE:0
LAST-MODIFIED:20210618T124641Z
SUMMARY:Despachos Internos
LOCATION:Reitoria
PRIORITY:3
TRANSP:0
END:VEVENT
END:VCALENDAR
