BEGIN:VCALENDAR
PRODID:brasil.gov.agenda
VERSION:1.0
BEGIN:VEVENT
DTSTART:20210618T140000Z
DTEND:20210618T180000Z
DCREATED:20210618T124717Z
UID:Compromisso-0e8738556556429cbae99a83ca66bb4b
SEQUENCE:0
LAST-MODIFIED:20210618T124717Z
SUMMARY:Despachos Internos
LOCATION:Reitoria
PRIORITY:3
TRANSP:0
END:VEVENT
END:VCALENDAR
